BEGIN:VCALENDAR
VERSION:2.0
PRODID:www.stappen-shoppen.nl
BEGIN:VEVENT
UID:stappen-shoppen.nl/entity/67f90124f5338c57ef00ede7
DTSTAMP:20260420T200343Z
ORGANIZER;CN=:MAILTO:
DTSTART:20260412T130000Z
DTEND:20260412T153000Z
URL:https://m-en.bredastudentapp.com/ical/67f90124f5338c57ef00ede7
SUMMARY:Bourgondische Bierproeverij
DESCRIPTION:Beleef de rijping van Bier\, in het centrum van Breda bij de Bourgondische Bierkelder
END:VEVENT
BEGIN:VEVENT
UID:stappen-shoppen.nl/entity/67f90124f5338c57ef00ede7
DTSTAMP:20260420T200343Z
ORGANIZER;CN=:MAILTO:
DTSTART:20260425T173000Z
DTEND:20260425T200000Z
URL:https://m-en.bredastudentapp.com/ical/67f90124f5338c57ef00ede7
SUMMARY:Bourgondische Bierproeverij
DESCRIPTION:Beleef de rijping van Bier\, in het centrum van Breda bij de Bourgondische Bierkelder
END:VEVENT
BEGIN:VEVENT
UID:stappen-shoppen.nl/entity/67f90124f5338c57ef00ede7
DTSTAMP:20260420T200343Z
ORGANIZER;CN=:MAILTO:
DTSTART:20260621T130000Z
DTEND:20260621T153000Z
URL:https://m-en.bredastudentapp.com/ical/67f90124f5338c57ef00ede7
SUMMARY:Bourgondische Bierproeverij
DESCRIPTION:Beleef de rijping van Bier\, in het centrum van Breda bij de Bourgondische Bierkelder
END:VEVENT
BEGIN:VEVENT
UID:stappen-shoppen.nl/entity/67f90124f5338c57ef00ede7
DTSTAMP:20260420T200343Z
ORGANIZER;CN=:MAILTO:
DTSTART:20260510T130000Z
DTEND:20260510T153000Z
URL:https://m-en.bredastudentapp.com/ical/67f90124f5338c57ef00ede7
SUMMARY:Bourgondische Bierproeverij
DESCRIPTION:Beleef de rijping van Bier\, in het centrum van Breda bij de Bourgondische Bierkelder
END:VEVENT
BEGIN:VEVENT
UID:stappen-shoppen.nl/entity/67f90124f5338c57ef00ede7
DTSTAMP:20260420T200343Z
ORGANIZER;CN=:MAILTO:
DTSTART:20260904T173000Z
DTEND:20260904T200000Z
URL:https://m-en.bredastudentapp.com/ical/67f90124f5338c57ef00ede7
SUMMARY:Bourgondische Bierproeverij
DESCRIPTION:Beleef de rijping van Bier\, in het centrum van Breda bij de Bourgondische Bierkelder
END:VEVENT
BEGIN:VEVENT
UID:stappen-shoppen.nl/entity/67f90124f5338c57ef00ede7
DTSTAMP:20260420T200343Z
ORGANIZER;CN=:MAILTO:
DTSTART:20260927T130000Z
DTEND:20260927T153000Z
URL:https://m-en.bredastudentapp.com/ical/67f90124f5338c57ef00ede7
SUMMARY:Bourgondische Bierproeverij
DESCRIPTION:Beleef de rijping van Bier\, in het centrum van Breda bij de Bourgondische Bierkelder
END:VEVENT
BEGIN:VEVENT
UID:stappen-shoppen.nl/entity/67f90124f5338c57ef00ede7
DTSTAMP:20260420T200343Z
ORGANIZER;CN=:MAILTO:
DTSTART:20261002T173000Z
DTEND:20261002T200000Z
URL:https://m-en.bredastudentapp.com/ical/67f90124f5338c57ef00ede7
SUMMARY:Bourgondische Bierproeverij
DESCRIPTION:Beleef de rijping van Bier\, in het centrum van Breda bij de Bourgondische Bierkelder
END:VEVENT
END:VCALENDAR

