BEGIN:VCALENDAR
VERSION:2.0
PRODID:www.stappen-shoppen.nl
BEGIN:VEVENT
UID:stappen-shoppen.nl/entity/681b2f2ad2e3ee2e67016321
DTSTAMP:20260422T112549Z
ORGANIZER;CN=:MAILTO:
DTSTART:20250621T070000Z
DTEND:20250628T180000Z
URL:https://m-en.bredastudentapp.com/ical/681b2f2ad2e3ee2e67016321
SUMMARY:BRIK Kinderfestival 2025
DESCRIPTION:Het BRIK Festival\, een internationaal festival speciaal voor kinderen! Ze zijn in 2011 ontstaan uit het Bredase dansgezelschap de Stilte. Dat wilde graag de allermooiste voorstellingen die het tegenkwam op zijn internationale tours delen met het jonge en oudere publiek in zijn thuisstad. Want wat is er mooier dan kinderen en volwassenen over de hele wereld te laten reizen in een week\, zonder Breda zelfs maar te hoeven verlaten?  De programmering bestaat uit kwaliteitsvoorstellingen die passen bij de uitgangspunten: de kinderfantasie prikkelen en ruimte laten voor eigen interpretatie. Bijna altijd zonder woorden. Want het lichaam kan ook heel goed verhalen vertellen. Dit maakt van BRIK een language no problem festival.
END:VEVENT
END:VCALENDAR

