BEGIN:VCALENDAR
VERSION:2.0
PRODID:www.stappen-shoppen.nl
BEGIN:VEVENT
UID:stappen-shoppen.nl/entity/68e633b32e248af3950e36bd
DTSTAMP:20260420T142234Z
ORGANIZER;CN=:MAILTO:
DTSTART:20251127T230000Z
DTEND:20251008T094551Z
URL:https://m-en.bredastudentapp.com/ical/68e633b32e248af3950e36bd
SUMMARY:CLUBBING vult de Mezz tijdens TURF by Night!
DESCRIPTION:Yes yes! Op vrijdag 28 november strijkt Clubbing neer in Mezz voor een nacht vol house. Mr. Belt & Wezol staan achter de decks om Breda ondersteboven te keren\, samen met Boris Smit\, Funkerman en Dimitri in de kleine zaal (all night long)!
END:VEVENT
END:VCALENDAR

