BEGIN:VCALENDAR
VERSION:2.0
PRODID:www.stappen-shoppen.nl
BEGIN:VEVENT
UID:stappen-shoppen.nl/entity/6932dd7b6085d8b1fe0bb0ac
DTSTAMP:20260420T155924Z
ORGANIZER;CN=:MAILTO:
DTSTART:20251209T152000Z
DTEND:20251209T200000Z
URL:https://m-en.bredastudentapp.com/ical/6932dd7b6085d8b1fe0bb0ac
SUMMARY:Vier kerst bij Breda wandelt!
DESCRIPTION:In december verandert Breda in een sfeervolle winterstad vol muziek en verlichting. Tijdens de kerstwandeling ontdekken bezoekers samen met een gids bijzondere plekken in de historische binnenstad\, waar korte acts en vertellingen de magie van de feestdagen tot leven brengen.
END:VEVENT
BEGIN:VEVENT
UID:stappen-shoppen.nl/entity/6932dd7b6085d8b1fe0bb0ac
DTSTAMP:20260420T155924Z
ORGANIZER;CN=:MAILTO:
DTSTART:20251209T152000Z
DTEND:20251209T200000Z
URL:https://m-en.bredastudentapp.com/ical/6932dd7b6085d8b1fe0bb0ac
SUMMARY:Vier kerst bij Breda wandelt!
DESCRIPTION:In december verandert Breda in een sfeervolle winterstad vol muziek en verlichting. Tijdens de kerstwandeling ontdekken bezoekers samen met een gids bijzondere plekken in de historische binnenstad\, waar korte acts en vertellingen de magie van de feestdagen tot leven brengen.
END:VEVENT
BEGIN:VEVENT
UID:stappen-shoppen.nl/entity/6932dd7b6085d8b1fe0bb0ac
DTSTAMP:20260420T155924Z
ORGANIZER;CN=:MAILTO:
DTSTART:20251210T152000Z
DTEND:20251210T200000Z
URL:https://m-en.bredastudentapp.com/ical/6932dd7b6085d8b1fe0bb0ac
SUMMARY:Vier kerst bij Breda wandelt!
DESCRIPTION:In december verandert Breda in een sfeervolle winterstad vol muziek en verlichting. Tijdens de kerstwandeling ontdekken bezoekers samen met een gids bijzondere plekken in de historische binnenstad\, waar korte acts en vertellingen de magie van de feestdagen tot leven brengen.
END:VEVENT
BEGIN:VEVENT
UID:stappen-shoppen.nl/entity/6932dd7b6085d8b1fe0bb0ac
DTSTAMP:20260420T155924Z
ORGANIZER;CN=:MAILTO:
DTSTART:20251211T152000Z
DTEND:20251211T200000Z
URL:https://m-en.bredastudentapp.com/ical/6932dd7b6085d8b1fe0bb0ac
SUMMARY:Vier kerst bij Breda wandelt!
DESCRIPTION:In december verandert Breda in een sfeervolle winterstad vol muziek en verlichting. Tijdens de kerstwandeling ontdekken bezoekers samen met een gids bijzondere plekken in de historische binnenstad\, waar korte acts en vertellingen de magie van de feestdagen tot leven brengen.
END:VEVENT
BEGIN:VEVENT
UID:stappen-shoppen.nl/entity/6932dd7b6085d8b1fe0bb0ac
DTSTAMP:20260420T155924Z
ORGANIZER;CN=:MAILTO:
DTSTART:20251212T152000Z
DTEND:20251212T200000Z
URL:https://m-en.bredastudentapp.com/ical/6932dd7b6085d8b1fe0bb0ac
SUMMARY:Vier kerst bij Breda wandelt!
DESCRIPTION:In december verandert Breda in een sfeervolle winterstad vol muziek en verlichting. Tijdens de kerstwandeling ontdekken bezoekers samen met een gids bijzondere plekken in de historische binnenstad\, waar korte acts en vertellingen de magie van de feestdagen tot leven brengen.
END:VEVENT
BEGIN:VEVENT
UID:stappen-shoppen.nl/entity/6932dd7b6085d8b1fe0bb0ac
DTSTAMP:20260420T155924Z
ORGANIZER;CN=:MAILTO:
DTSTART:20251213T152000Z
DTEND:20251213T200000Z
URL:https://m-en.bredastudentapp.com/ical/6932dd7b6085d8b1fe0bb0ac
SUMMARY:Vier kerst bij Breda wandelt!
DESCRIPTION:In december verandert Breda in een sfeervolle winterstad vol muziek en verlichting. Tijdens de kerstwandeling ontdekken bezoekers samen met een gids bijzondere plekken in de historische binnenstad\, waar korte acts en vertellingen de magie van de feestdagen tot leven brengen.
END:VEVENT
END:VCALENDAR

