BEGIN:VCALENDAR
VERSION:2.0
PRODID:www.stappen-shoppen.nl
BEGIN:VEVENT
UID:stappen-shoppen.nl/entity/69ce52fa71a5a942ad0d5e1f
DTSTAMP:20260420T192911Z
ORGANIZER;CN=:MAILTO:
DTSTART:20260709T173000Z
DTEND:20260709T210000Z
URL:https://m-en.bredastudentapp.com/ical/69ce52fa71a5a942ad0d5e1f
SUMMARY:The Damn Truth in MEZZ
DESCRIPTION:Een rauwe mix van vintage hippie-vibes en moderne hardrock.
END:VEVENT
END:VCALENDAR

